BEGIN:VCALENDAR
VERSION:2.0
PRODID:icalendar-ruby
CALSCALE:GREGORIAN
METHOD:PUBLISH
BEGIN:VEVENT
DTSTAMP:20260422T041743Z
UID:6-643347@emmanuelevangelicalchurch.org
DTSTART:20261025T143000Z
DTEND:20261026T040000Z
CLASS:PUBLIC
CREATED:20260421T194158
DESCRIPTION:
LAST-MODIFIED:20260421T194158
LOCATION:
SUMMARY:Worship Service
URL;VALUE=URI:https://emmanuelevangelicalchurch.org/events/worship-service-
 -5/2026-10-25
ATTACH;FILENAME=IMG_0011.JPG;FMTTYPE=image/jpeg:https://dq5pwpg1q8ru0.cloud
 front.net/2023/01/13/11/13/09/25aff79d-6d5f-4711-b23c-38a6ff68fcaa/IMG_001
 1.JPG
END:VEVENT
END:VCALENDAR
