BEGIN:VCALENDAR
VERSION:2.0
PRODID:icalendar-ruby
CALSCALE:GREGORIAN
METHOD:PUBLISH
BEGIN:VEVENT
DTSTAMP:20260421T202625Z
UID:6-642552@emmanuelevangelicalchurch.org
DTSTART:20260920T143000Z
DTEND:20260921T040000Z
CLASS:PUBLIC
CREATED:20260421T142552
DESCRIPTION:
LAST-MODIFIED:20260421T142552
LOCATION:
SUMMARY:Worship Service
URL;VALUE=URI:https://emmanuelevangelicalchurch.org/events/worship-service-
 -5/2026-09-20
ATTACH;FILENAME=IMG_0011.JPG;FMTTYPE=image/jpeg:https://dq5pwpg1q8ru0.cloud
 front.net/2023/01/13/11/13/09/25aff79d-6d5f-4711-b23c-38a6ff68fcaa/IMG_001
 1.JPG
END:VEVENT
END:VCALENDAR
