BEGIN:VCALENDAR
VERSION:2.0
PRODID:icalendar-ruby
CALSCALE:GREGORIAN
METHOD:PUBLISH
BEGIN:VEVENT
DTSTAMP:20260422T143137Z
UID:9-643939@emmanuelevangelicalchurch.org
DTSTART:20261029T233000Z
DTEND:20261030T013000Z
CLASS:PUBLIC
CREATED:20260422T064505
DESCRIPTION:
LAST-MODIFIED:20260422T064505
LOCATION:Pastor’s House
SUMMARY:Men’s Bible Study
URL;VALUE=URI:https://emmanuelevangelicalchurch.org/events/men-s-bible-stud
 y--9/2026-10-29
END:VEVENT
END:VCALENDAR
