BEGIN:VCALENDAR
VERSION:2.0
PRODID:icalendar-ruby
CALSCALE:GREGORIAN
METHOD:PUBLISH
BEGIN:VEVENT
DTSTAMP:20260422T110815Z
UID:9-643542@emmanuelevangelicalchurch.org
DTSTART:20261015T233000Z
DTEND:20261016T013000Z
CLASS:PUBLIC
CREATED:20260421T194158
DESCRIPTION:
LAST-MODIFIED:20260421T194158
LOCATION:Pastor’s House
SUMMARY:Men’s Bible Study
URL;VALUE=URI:https://emmanuelevangelicalchurch.org/events/men-s-bible-stud
 y--9/2026-10-15
END:VEVENT
END:VCALENDAR
