BEGIN:VCALENDAR
VERSION:2.0
PRODID:icalendar-ruby
CALSCALE:GREGORIAN
METHOD:PUBLISH
BEGIN:VEVENT
DTSTAMP:20260421T232837Z
UID:9-643140@emmanuelevangelicalchurch.org
DTSTART:20260827T233000Z
DTEND:20260828T013000Z
CLASS:PUBLIC
CREATED:20260421T170319
DESCRIPTION:
LAST-MODIFIED:20260421T170319
LOCATION:Pastor’s House
SUMMARY:Men’s Bible Study
URL;VALUE=URI:https://emmanuelevangelicalchurch.org/events/men-s-bible-stud
 y--9/2026-08-27
END:VEVENT
END:VCALENDAR
