BEGIN:VCALENDAR
VERSION:2.0
PRODID:icalendar-ruby
CALSCALE:GREGORIAN
METHOD:PUBLISH
BEGIN:VEVENT
DTSTAMP:20260421T184511Z
UID:9-642347@emmanuelevangelicalchurch.org
DTSTART:20260806T233000Z
DTEND:20260807T013000Z
CLASS:PUBLIC
CREATED:20260421T114830
DESCRIPTION:
LAST-MODIFIED:20260421T114830
LOCATION:Pastor’s House
SUMMARY:Men’s Bible Study
URL;VALUE=URI:https://emmanuelevangelicalchurch.org/events/men-s-bible-stud
 y--9/2026-08-06
END:VEVENT
END:VCALENDAR
