BEGIN:VCALENDAR
VERSION:2.0
PRODID:icalendar-ruby
CALSCALE:GREGORIAN
METHOD:PUBLISH
BEGIN:VEVENT
DTSTAMP:20260421T171219Z
UID:9-642346@emmanuelevangelicalchurch.org
DTSTART:20260730T233000Z
DTEND:20260731T013000Z
CLASS:PUBLIC
CREATED:20260421T114830
DESCRIPTION:
LAST-MODIFIED:20260421T114830
LOCATION:Pastor’s House
SUMMARY:Men’s Bible Study
URL;VALUE=URI:https://emmanuelevangelicalchurch.org/events/men-s-bible-stud
 y--9/2026-07-30
END:VEVENT
END:VCALENDAR
