BEGIN:VCALENDAR
VERSION:2.0
PRODID:icalendar-ruby
CALSCALE:GREGORIAN
METHOD:PUBLISH
BEGIN:VEVENT
DTSTAMP:20260421T153049Z
UID:9-641950@emmanuelevangelicalchurch.org
DTSTART:20260723T233000Z
DTEND:20260724T013000Z
CLASS:PUBLIC
CREATED:20260421T090959
DESCRIPTION:
LAST-MODIFIED:20260421T090959
LOCATION:Pastor’s House
SUMMARY:Men’s Bible Study
URL;VALUE=URI:https://emmanuelevangelicalchurch.org/events/men-s-bible-stud
 y--9/2026-07-23
END:VEVENT
END:VCALENDAR
